Workbook
Name \A: #REF!
Name \A: #REF!
Name \A: #REF!
Name \B: #REF!
Name \B: #REF!
Name \B: #REF!
Name \C: #REF!
Name \C: #REF!
Name \C: #REF!
Name \D: #REF!
Name \E: #REF!
Name \F: #REF!
Name \G: #REF!
Name \H: #REF!
Name \I: #REF!
Name \J: #REF!
Name \K: #REF!
Name \L: #REF!
Name \M: #REF!
Name \N: #REF!
Name \O: #REF!
Name \P: #REF!
Name \Q: #REF!
Name \R: #REF!
Name \S: #REF!
Name \T: #REF!
Name \U: #REF!
Name \V: #REF!
Name \W: #REF!
Name \X: #REF!
Name \Y: #REF!
Name \Z: #REF!
Name _1Macros_Import_.qbop: [1]!'[Macros Import].qbop'
Name _BOP1: #REF!
Name _BOP2: [2]BOP!#REF!
Name _bop3: [3]BOP!#REF!
Name _EXP5: [2]TRADE!#REF!
Name _EXP6: [2]TRADE!#REF!
Name _EXP7: [2]TRADE!#REF!
Name _EXP9: [2]TRADE!#REF!
Name _IMP10: #REF!
Name _IMP2: [2]OUTPUT!#REF!
Name _IMP4: [2]OUTPUT!#REF!
Name _IMP6: [2]OUTPUT!#REF!
Name _IMP7: [2]OUTPUT!#REF!
Name _IMP8: #REF!
Name _MTS2: '[4]Annual Tables'!#REF!
Name _PAG2: [4]Index!#REF!
Name _PAG3: [4]Index!#REF!
Name _PAG4: [4]Index!#REF!
Name _PAG5: [4]Index!#REF!
Name _PAG6: [4]Index!#REF!
Name _PAG7: #REF!
Name _Ref33606327: 'Gráfico 2.2'!$AB$31
Name _Ref33700462: 'Gráfico 2.3 '!#REF!
Name _Ref34321844: 'Tabla 2.6'!$C$1
Name _Ref34654345: 'Gráfico 2.18'!$K$4
Name _Ref34985827: 'Gráfico 2.21'!$K$17
Name _Ref35451939: 'Gráfico 2.12'!$I$37
Name _RES2: [2]RES!#REF!

Sheet Índice
A16: Listado Gráficos | D16: Listado Tablas
A17: 2.1 | B17: Evolución de los agregados Monetarios % del PIB | D17: 2.1 | E17: Reserva Monetaria Internacional
A18: 2.2 | B18: Evolución de los Agregados Monetarios vs PIB Nominal | D18: 2.2 | E18: Reserva Internacional
A19: 2.3 | B19: Evolución de la RMI, RILD y RI | D19: 2.3 | E19: Variación Acumulada Reserva Internacional Junio 2020
A20: 2.4 | B20: Evolución de las Reservas Internacionales y Resultado Global de la Balanza de Pagos (Millones USD) | D20: 2.4 | E20: Sistema de Balances BCE 2000
A21: 2.5 | B21: Evolución de las Reservas Internacionales y Resultado Global de la Balanza de Pagos (% PIB) | D21: 2.5 | E21: Balance BCE
A22: 2.6 | B22: Profundización financiera | D22: 2.6 | E22: Tasas de interés máximas por segmentos de crédito
A23: 2.7 | B23: Captaciones de las Otras Sociedades de Depósito
A24: 2.8 | B24: Cartera de crédito de las Otras Sociedades de Depósito
A25: 2.9 | B25: Cartera de crédito y Captaciones de las Otras Sociedades de Depósito
A26: 2.10 | B26: Captaciones de las OSD por tipo de depósito
A27: 2.11 | B27: Cartera por vencer de las OSD por tipo de crédito
A28: 2.12 | B28: Saldos de Títulos del Gobierno Central adquiridos por el BCE
A29: 2.13 | B29: Colocación Total de Inversión Doméstica del BCE
A30: 2.14 | B30: Saldos de Inversión doméstica realizada por el BCE
A31: 2.15 | B31: Tasa de interés referenciales en sucres
A32: 2.16 | B32: Tasas de interés
A33: 2.17 | B33: Tasa de interés por segmento de crédito
A34: 2.18 | B34: Reservas de Liquidez y Reservas Mínimas de Liquidez del Sistema Financiero Nacional
... A37: 2.21 | B37: Evolución del Fondo de Liquidez

Sheet Gráfico 2.1
B1: Agregados Monetarios
B2: Millones de USD y porcentaje
A3: Período | B3: mes | C3: año | D3: Trimestre | E3: Especies monetarias en circulación EMC | F3: Moneda Fraccionaria | G3: Dinero Electrónico | H3: Depósitos a la vista | I3: Oferta monetaria M1 | J3: Depósitos a plazo o Cuasidinero | K3: Liquidez total M2 | L3: Reservas Bancarias (6) | M3: Caja BCE | N3: Caja OSD | O3: BASE MONETARIA BM (7) | P3: Multiplicador M1/BM (8) | Q3: Multiplicador M2/BM | R3: PIB Nominal | S3: M1/PIB | T3: M2/PIB | U3: EMC/PIB | V3: TVA_M1 | W3: TVA_M2 | X3: TVA_EMC | Y3: TVA_PIB NOMINAL
A4: 36526 | B4: =+MONTH(A4) -> 1 | C4: =+YEAR(A4) -> 2000 | D4: I. Trim | E4: 536.23 | F4: 0 | H4: 533.76 | I4: 1069.99 | J4: 2208.43 | K4: 3278.42 | L4: 158.56 | M4: 82.04 | N4: 96.54 | O4: 873.37 | P4: 1.225128 | Q4: 3.7537584 | R4: =+VLOOKUP(YEAR(A4),PIB!$A$1:$C$22,3,0) -> 18318.601 | S4: =+I4/R4 -> 0.058410028 | T4: =+K4/R4 -> 0.17896672 | U4: =+E4/R4 -> 0.029272432 | AA4: Período | AB4: (Varios elementos)
A5: 36557 | B5: =+MONTH(A5) -> 2 | C5: =+YEAR(A5) -> 2000 | D5: I. Trim | E5: 530.42 | F5: 0 | H5: 596.49 | I5: 1126.91 | J5: 2225.48 | K5: 3352.39 | L5: 124.58 | M5: 98.85 | N5: 85.54 | O5: 839.39 | P5: 1.3425345 | Q5: 3.9938408 | R5: =+VLOOKUP(YEAR(A5),PIB!$A$1:$C$22,3,0) -> 18318.601 | S5: =+I5/R5 -> 0.061517252 | T5: =+K5/R5 -> 0.1830047 | U5: =+E5/R5 -> 0.028955268
A6: 36586 | B6: =+MONTH(A6) -> 3 | C6: =+YEAR(A6) -> 2000 | D6: I. Trim | E6: 557.46 | F6: 0 | H6: 696.03 | I6: 1253.49 | J6: 2199.92 | K6: 3453.41 | L6: 206.19 | M6: 54.78 | N6: 102.57 | O6: 921 | P6: 1.3610098 | Q6: 3.7496308 | R6: =+VLOOKUP(YEAR(A6),PIB!$A$1:$C$22,3,0) -> 18318.601 | S6: =+I6/R6 -> 0.068427169 | T6: =+K6/R6 -> 0.18851931 | U6: =+E6/R6 -> 0.030431363 | AB6: Valores
A7: 36617 | B7: =+MONTH(A7) -> 4 | C7: =+YEAR(A7) -> 2000 | D7: II. Trim | E7: 567.96 | F7: 0 | H7: 697.88 | I7: 1265.84 | J7: 2380.72 | K7: 3646.56 | L7: 223.89 | M7: 96.78 | N7: 114.36 | O7: 1002.99 | P7: 1.2620664 | Q7: 3.6356893 | R7: =+VLOOKUP(YEAR(A7),PIB!$A$1:$C$22,3,0) -> 18318.601 | S7: =+I7/R7 -> 0.069101347 | T7: =+K7/R7 -> 0.19906324 | U7: =+E7/R7 -> 0.031004551 | AA7: Rótulos de fila | AB7: M2/PIB | AC7: M1/PIB | AD7: EMC/PIB
A8: 36647 | B8: =+MONTH(A8) -> 5 | C8: =+YEAR(A8) -> 2000 | D8: II. Trim | E8: 625.34 | F8: 0 | H8: 801.82 | I8: 1427.16 | J8: 2433.46 | K8: 3860.62 | L8: 201.98 | M8: 104.53 | N8: 125.77 | O8: 1057.62 | P8: 1.3494072 | Q8: 3.6502903 | R8: =+VLOOKUP(YEAR(A8),PIB!$A$1:$C$22,3,0) -> 18318.601 | S8: =+I8/R8 -> 0.077907696 | T8: =+K8/R8 -> 0.21074863 | U8: =+E8/R8 -> 0.034136886 | AA8: 2000 | AB8: 0.26610667 | AC8: 0.11421134 | AD8: 0.061153251
A9: 36678 | B9: =+MONTH(A9) -> 6 | C9: =+YEAR(A9) -> 2000 | D9: II. Trim | E9: 804.822 | F9: 0 | H9: 807.97 | I9: 1612.792 | J9: 2477.5 | K9: 4090.292 | L9: 212.19 | M9: 61.71 | N9: 102.63 | O9: 1181.352 | P9: 1.3652087 | Q9: 3.4623821 | R9: =+VLOOKUP(YEAR(A9),PIB!$A$1:$C$22,3,0) -> 18318.601 | S9: =+I9/R9 -> 0.088041221 | T9: =+K9/R9 -> 0.22328627 | U9: =+E9/R9 -> 0.043934687 | AA9: 2001 | AB9: 0.25163726 | AC9: 0.12116326 | AD9: 0.061772576
A10: 36708 | B10: =+MONTH(A10) -> 7 | C10: =+YEAR(A10) -> 2000 | D10: III. Trim | E10: 857.09 | F10: 0 | H10: 852.62 | I10: 1709.71 | J10: 2510.18 | K10: 4219.89 | L10: 204.33 | M10: 113.37 | N10: 102.76 | O10: 1277.55 | P10: 1.3382725 | Q10: 3.3031114 | R10: =+VLOOKUP(YEAR(A10),PIB!$A$1:$C$22,3,0) -> 18318.601 | S10: =+I10/R10 -> 0.093331909 | T10: =+K10/R10 -> 0.23036093 | U10: =+E10/R10 -> 0.046787962 | AA10: 2002 | AB10: 0.26104848 | AC10: 0.12970737 | AD10: 0.064443177
A11: 36739 | B11: =+MONTH(A11) -> 8 | C11: =+YEAR(A11) -> 2000 | D11: III. Trim | E11: 942.57 | F11: 0 | H11: 827.48 | I11: 1770.05 | J11: 2609.8 | K11: 4379.85 | L11: 222.93 | M11: 120.58 | N11: 100.82 | O11: 1386.9 | P11: 1.2762636 | Q11: 3.1580143 | R11: =+VLOOKUP(YEAR(A11),PIB!$A$1:$C$22,3,0) -> 18318.601 | S11: =+I11/R11 -> 0.096625829 | T11: =+K11/R11 -> 0.23909304 | U11: =+E11/R11 -> 0.051454257 | AA11: 2003 | AB11: 0.22127612 | AC11: 0.12136171 | AD11: 0.065405956
A12: 36770 | B12: =+MONTH(A12) -> 9 | C12: =+YEAR(A12) -> 2000 | D12: III. Trim | E12: 928.532 | F12: 7.46 | H12: 828.77 | I12: 1764.762 | J12: 2632.05 | K12: 4396.812 | L12: 246.35 | M12: 138.6 | N12: 96.91 | O12: 1417.852 | P12: 1.2446729 | Q12: 3.1010373 | R12: =+VLOOKUP(YEAR(A12),PIB!$A$1:$C$22,3,0) -> 18318.601 | S12: =+I12/R12 -> 0.09633716 | T12: =+K12/R12 -> 0.24001898 | U12: =+E12/R12 -> 0.050687932 | AA12: 2004 | AB12: 0.2371728 | AC12: 0.12534076 | AD12: 0.061633896
A13: 36800 | B13: =+MONTH(A13) -> 10 | C13: =+YEAR(A13) -> 2000 | D13: IV. Trim | E13: 934.782 | F13: 16.34 | H13: 870.22 | I13: 1821.342 | J13: 2663.08 | K13: 4484.422 | L13: 232.76 | M13: 162.78 | N13: 105.68 | O13: 1452.342 | P13: 1.2540724 | Q13: 3.0877176 | R13: =+VLOOKUP(YEAR(A13),PIB!$A$1:$C$22,3,0) -> 18318.601 | S13: =+I13/R13 -> 0.099425824 | T13: =+K13/R13 -> 0.24480155 | U13: =+E13/R13 -> 0.051029115 | AA13: 2005 | AB13: 0.25179796 | AC13: 0.1303623 | AD13: 0.064778241
A14: 36831 | B14: =+MONTH(A14) -> 11 | C14: =+YEAR(A14) -> 2000 | D14: IV. Trim | E14: 978.852 | F14: 20.76 | H14: 871.22 | I14: 1870.832 | J14: 2730.1 | K14: 4600.932 | L14: 242.5 | M14: 189.09 | N14: 104.3 | O14: 1535.502 | P14: 1.2183846 | Q14: 2.9963699 | R14: =+VLOOKUP(YEAR(A14),PIB!$A$1:$C$22,3,0) -> 18318.601 | S14: =+I14/R14 -> 0.10212745 | T14: =+K14/R14 -> 0.25116176 | U14: =+E14/R14 -> 0.053434867 | AA14: 2006 | AB14: 0.25818413 | AC14: 0.13375046 | AD14: 0.06474215
A15: 36861 | B15: =+MONTH(A15) -> 12 | C15: =+YEAR(A15) -> 2000 | D15: IV. Trim | E15: 1120.242 | F15: 23.49 | H15: 948.46 | I15: 2092.192 | J15: 2782.51 | K15: 4874.702 | L15: 225.92 | M15: 115.41 | N15: 121.47 | O15: 1606.532 | P15: 1.3023033 | Q15: 3.0343012 | R15: =+VLOOKUP(YEAR(A15),PIB!$A$1:$C$22,3,0) -> 18318.601 | S15: =+I15/R15 -> 0.11421134 | T15: =+K15/R15 -> 0.26610667 | U15: =+E15/R15 -> 0.061153251 | AA15: 2007 | AB15: 0.27472817 | AC15: 0.1374146 | AD15: 0.06429026
A16: 36892 | B16: =+MONTH(A16) -> 1 | C16: =+YEAR(A16) -> 2001 | D16: I. Trim | E16: 1022.74 | F16: 24.04 | H16: 1023.79 | I16: 2070.57 | J16: 2837.65 | K16: 4908.22 | L16: 131.67327 | M16: 243.51 | N16: 120.92 | O16: 1542.8833 | P16: 1.3420134 | Q16: 3.1811998 | R16: =+VLOOKUP(YEAR(A16),PIB!$A$1:$C$22,3,0) -> 24468.324 | S16: =+I16/R16 -> 0.084622469 | T16: =+K16/R16 -> 0.20059486 | U16: =+E16/R16 -> 0.041798531 | V16: =+I16/I4-1 -> 0.93513023 | W16: =+K16/K4-1 -> 0.49712971 | X16: =+E16/E4-1 -> 0.90727859 | AA16: 2008 | AB16: 0.27811736 | AC16: 0.14378129 | AD16: 0.066355006
A17: 36923 | B17: =+MONTH(A17) -> 2 | C17: =+YEAR(A17) -> 2001 | D17: I. Trim | E17: 1044.543 | F17: 25.517 | H17: 1078.31 | I17: 2148.37 | J17: 2861.97 | K17: 5010.34 | L17: 126.44386 | M17: 237.615 | N17: 136.72 | O17: 1570.8389 | P17: 1.3676578 | Q17: 3.1895952 | R17: =+VLOOKUP(YEAR(A17),PIB!$A$1:$C$22,3,0) -> 24468.324 | S17: =+I17/R17 -> 0.087802091 | T17: =+K17/R17 -> 0.20476842 | U17: =+E17/R17 -> 0.042689601 | V17: =+I17/I5-1 -> 0.90642554 | W17: =+K17/K5-1 -> 0.49455761 | X17: =+E17/E5-1 -> 0.96927529 | AA17: 2009 | AB17: 0.29732169 | AC17: 0.1473083 | AD17: 0.067660197
A18: 36951 | B18: =+MONTH(A18) -> 3 | C18: =+YEAR(A18) -> 2001 | D18: I. Trim | E18: 1067.7829 | F18: 27.32335 | H18: 1175.88 | I18: 2270.9862 | J18: 2912.9 | K18: 5183.8862 | L18: 169.9813 | M18: 246.44314 | N18: 104.35 | O18: 1615.8806 | P18: 1.405417 | Q18: 3.2080873 | R18: =+VLOOKUP(YEAR(A18),PIB!$A$1:$C$22,3,0) -> 24468.324 | S18: =+I18/R18 -> 0.092813313 | T18: =+K18/R18 -> 0.21186111 | U18: =+E18/R18 -> 0.043639395 | V18: =+I18/I6-1 -> 0.81173062 | W18: =+K18/K6-1 -> 0.50109202 | X18: =+E18/E6-1 -> 0.91544301 | AA18: 2010 | AB18: 0.31901732 | AC18: 0.15492905 | AD18: 0.065349148
A19: 36982 | B19: =+MONTH(A19) -> 4 | C19: =+YEAR(A19) -> 2001 | D19: II. Trim | E19: 1127.5969 | F19: 28.35594 | H19: 1189.93 | I19: 2345.8829 | J19: 2953.75 | K19: 5299.6329 | L19: 166.54016 | M19: 96.60906 | N19: 118.27 | O19: 1537.3721 | P19: 1.5259044 | Q19: 3.4472025 | R19: =+VLOOKUP(YEAR(A19),PIB!$A$1:$C$22,3,0) -> 24468.324 | S19: =+I19/R19 -> 0.095874277 | T19: =+K19/R19 -> 0.21659158 | U19: =+E19/R19 -> 0.046083947 | V19: =+I19/I7-1 -> 0.85322227 | W19: =+K19/K7-1 -> 0.45332392 | X19: =+E19/E7-1 -> 0.98534569 | AA19: 2011 | AB19: 0.33499111 | AC19: 0.15254132 | AD19: 0.066740692
A20: 37012 | B20: =+MONTH(A20) -> 5 | C20: =+YEAR(A20) -> 2001 | D20: II. Trim | E20: 1173.6827 | F20: 27.04451 | H20: 1266.12 | I20: 2466.8472 | J20: 2911.09 | K20: 5377.9372 | L20: 150.52872 | M20: 164.91331 | N20: 123.64 | O20: 1639.8092 | P20: 1.5043501 | Q20: 3.2796115 | R20: =+VLOOKUP(YEAR(A20),PIB!$A$1:$C$22,3,0) -> 24468.324 | S20: =+I20/R20 -> 0.10081799 | T20: =+K20/R20 -> 0.21979181 | U20: =+E20/R20 -> 0.047967433 | V20: =+I20/I8-1 -> 0.7285008 | W20: =+K20/K8-1 -> 0.39302423 | X20: =+E20/E8-1 -> 0.87687129 | AA20: 2012 | AB20: 0.35150031 | AC20: 0.16504635 | AD20: 0.071956447
A21: 37043 | B21: =+MONTH(A21) -> 6 | C21: =+YEAR(A21) -> 2001 | D21: II. Trim | E21: 1194.248 | F21: 25.72352 | H21: 1233.49 | I21: 2453.4615 | J21: 2949.94 | K21: 5403.4015 | L21: 143.70246 | M21: 159.72697 | N21: 106.37 | O21: 1629.771 | P21: 1.5054026 | Q21: 3.3154361 | R21: =+VLOOKUP(YEAR(A21),PIB!$A$1:$C$22,3,0) -> 24468.324 | S21: =+I21/R21 -> 0.10027093 | T21: =+K21/R21 -> 0.22083252 | U21: =+E21/R21 -> 0.048807921 | V21: =+I21/I9-1 -> 0.52125107 | W21: =+K21/K9-1 -> 0.32103076 | X21: =+E21/E9-1 -> 0.48386603 | AA21: 2013 | AB21: 0.36845645 | AC21: 0.17105524 | AD21: 0.077442264
A22: 37073 | B22: =+MONTH(A22) -> 7 | C22: =+YEAR(A22) -> 2001 | D22: III. Trim | E22: 1336.751 | F22: 25.49 | H22: 1084.83 | I22: 2447.071 | J22: 2999.41 | K22: 5446.481 | L22: 204.57269 | M22: 147.73 | N22: 139.94 | O22: 1854.4837 | P22: 1.319543 | Q22: 2.9369258 | R22: =+VLOOKUP(YEAR(A22),PIB!$A$1:$C$22,3,0) -> 24468.324 | S22: =+I22/R22 -> 0.10000975 | T22: =+K22/R22 -> 0.22259314 | U22: =+E22/R22 -> 0.054631899 | V22: =+I22/I10-1 -> 0.4312784 | W22: =+K22/K10-1 -> 0.29066895 | X22: =+E22/E10-1 -> 0.55963901 | AA22: 2014 | AB22: 0.39423782 | AC22: 0.18378051 | AD22: 0.093780014
A23: 37104 | B23: =+MONTH(A23) -> 8 | C23: =+YEAR(A23) -> 2001 | D23: III. Trim | E23: 1368.331 | F23: 25.28 | H23: 1225.19 | I23: 2618.801 | J23: 3025.77 | K23: 5644.571 | L23: 162.16203 | M23: 168.93 | N23: 103.78 | O23: 1828.483 | P23: 1.432226 | Q23: 3.087024 | R23: =+VLOOKUP(YEAR(A23),PIB!$A$1:$C$22,3,0) -> 24468.324 | S23: =+I23/R23 -> 0.10702821 | T23: =+K23/R23 -> 0.23068891 | U23: =+E23/R23 -> 0.055922547 | V23: =+I23/I11-1 -> 0.47950679 | W23: =+K23/K11-1 -> 0.28875898 | X23: =+E23/E11-1 -> 0.45170226 | AA23: 2015 | AB23: 0.39933982 | AC23: 0.19177742 | AD23: 0.11837672
A24: 37135 | B24: =+MONTH(A24) -> 9 | C24: =+YEAR(A24) -> 2001 | D24: III. Trim | E24: 1358.771 | F24: 25.76 | H24: 1259.7 | I24: 2644.231 | J24: 3091.87 | K24: 5736.101 | L24: 137.44185 | M24: 147.58 | N24: 111.03 | O24: 1780.5828 | P24: 1.4850368 | Q24: 3.2214738 | R24: =+VLOOKUP(YEAR(A24),PIB!$A$1:$C$22,3,0) -> 24468.324 | S24: =+I24/R24 -> 0.10806752 | T24: =+K24/R24 -> 0.23442967 | U24: =+E24/R24 -> 0.055531838 | V24: =+I24/I12-1 -> 0.49834992 | W24: =+K24/K12-1 -> 0.30460456 | X24: =+E24/E12-1 -> 0.46335398 | AA24: 2016 | AB24: 0.46217066 | AC24: 0.22648912 | AD24: 0.13269387
A25: 37165 | B25: =+MONTH(A25) -> 10 | C25: =+YEAR(A25) -> 2001 | D25: IV. Trim | E25: 1356.076 | F25: 26.32 | H25: 1337.71 | I25: 2720.106 | J25: 3121.15 | K25: 5841.256 | L25: 151.99268 | M25: 142.46 | N25: 117.62 | O25: 1794.4687 | P25: 1.5158281 | Q25: 3.2551451 | R25: =+VLOOKUP(YEAR(A25),PIB!$A$1:$C$22,3,0) -> 24468.324 | S25: =+I25/R25 -> 0.11116846 | T25: =+K25/R25 -> 0.23872726 | U25: =+E25/R25 -> 0.055421695 | V25: =+I25/I13-1 -> 0.49346251 | W25: =+K25/K13-1 -> 0.30256608 | X25: =+E25/E13-1 -> 0.4506869 | AA25: 2017 | AB25: 0.48698751 | AC25: 0.2352012 | AD25: 0.14246664
A26: 37196 | B26: =+MONTH(A26) -> 11 | C26: =+YEAR(A26) -> 2001 | D26: IV. Trim | E26: 1422.051 | F26: 26.313791 | H26: 1379.6 | I26: 2827.9648 | J26: 3201.67 | K26: 6029.6348 | L26: 199.48054 | M26: 123.38797 | N26: 116.63 | O26: 1887.8633 | P26: 1.4979712 | Q26: 3.1938937 | R26: =+VLOOKUP(YEAR(A26),PIB!$A$1:$C$22,3,0) -> 24468.324 | S26: =+I26/R26 -> 0.11557656 | T26: =+K26/R26 -> 0.24642615 | U26: =+E26/R26 -> 0.05811804 | V26: =+I26/I14-1 -> 0.51160811 | W26: =+K26/K14-1 -> 0.31052465 | X26: =+E26/E14-1 -> 0.4527743 | AA26: 2018 | AB26: 0.49891912 | AC26: 0.23484075 | AD26: 0.14796921
A27: 37226 | B27: =+MONTH(A27) -> 12 | C27: =+YEAR(A27) -> 2001 | D27: IV. Trim | E27: 1511.4714 | F27: 27.210505 | H27: 1425.98 | I27: 2964.6619 | J27: 3192.48 | K27: 6157.1419 | L27: 261.37105 | M27: 79.3956 | N27: 149.93 | O27: 2029.3786 | P27: 1.4608718 | Q27: 3.0340036 | R27: =+VLOOKUP(YEAR(A27),PIB!$A$1:$C$22,3,0) -> 24468.324 | S27: =+I27/R27 -> 0.12116326 | T27: =+K27/R27 -> 0.25163726 | U27: =+E27/R27 -> 0.061772576 | V27: =+I27/I15-1 -> 0.41701235 | W27: =+K27/K15-1 -> 0.26308068 | X27: =+E27/E15-1 -> 0.3492365 | Y27: =+R27/R4-1 -> 0.33570921 | AA27: 2019 | AB27: 0.53955761 | AC27: 0.24383654 | AD27: 0.15791991
A28: 37257 | B28: =+MONTH(A28) -> 1 | C28: =+YEAR(A28) -> 2002 | D28: I. Trim | E28: 1421.3603 | F28: 27.89379 | H28: 1550.17 | I28: 2999.4241 | J28: 3311.07 | K28: 6310.4941 | L28: 199.44533 | M28: 118.36368 | N28: 134.72 | O28: 1901.7831 | P28: 1.5771641 | Q28: 3.3181986 | R28: =+VLOOKUP(YEAR(A28),PIB!$A$1:$C$22,3,0) -> 28548.945 | S28: =+I28/R28 -> 0.10506252 | T28: =+K28/R28 -> 0.22104124 | U28: =+E28/R28 -> 0.04978679 | V28: =+I28/I16-1 -> 0.44859827 | W28: =+K28/K16-1 -> 0.28569912 | X28: =+E28/E16-1 -> 0.38975724 | Y28: =+R28/R5-1 -> 0.55846754 | AA28: 2020 (jun) | AB28: 0.61540242 | AC28: 0.28391216 | AD28: 0.18867921
A29: 37288 | B29: =+MONTH(A29) -> 2 | C29: =+YEAR(A29) -> 2002 | D29: I. Trim | E29: 1422.8859 | F29: 28.780721 | H29: 1530.78 | I29: 2982.4466 | J29: 3352.47 | K29: 6334.9166 | L29: 249.67325 | M29: 128.92813 | N29: 138.07 | O29: 1968.338 | P29: 1.5152106 | Q29: 3.218409 | R29: =+VLOOKUP(YEAR(A29),PIB!$A$1:$C$22,3,0) -> 28548.945 | S29: =+I29/R29 -> 0.10446784 | T29: =+K29/R29 -> 0.2218967 | U29: =+E29/R29 -> 0.049840226 | V29: =+I29/I17-1 -> 0.38823694 | W29: =+K29/K17-1 -> 0.2643686 | X29: =+E29/E17-1 -> 0.362209 | Y29: =+R29/R6-1 -> 0.55846754
A30: 37316 | B30: =+MONTH(A30) -> 3 | C30: =+YEAR(A30) -> 2002 | D30: I. Trim | E30: 1509.993 | F30: 29.884117 | H30: 1544.57 | I30: 3084.4472 | J30: 3393.36 | K30: 6477.8072 | L30: 209.94687 | M30: 83.402862 | N30: 131.19 | O30: 1964.4169 | P30: 1.5701592 | Q30: 3.2975725 | R30: =+VLOOKUP(YEAR(A30),PIB!$A$1:$C$22,3,0) -> 28548.945 | S30: =+I30/R30 -> 0.10804067 | T30: =+K30/R30 -> 0.22690181 | U30: =+E30/R30 -> 0.052891378 | V30: =+I30/I18-1 -> 0.35819722 | W30: =+K30/K18-1 -> 0.24960443 | X30: =+E30/E18-1 -> 0.41413867 | Y30: =+R30/R7-1 -> 0.55846754
A31: 37347 | B31: =+MONTH(A31) -> 4 | C31: =+YEAR(A31) -> 2002 | D31: II. Trim | E31: 1501.5725 | F31: 31.180929 | H31: 1613.42 | I31: 3146.1735 | J31: 3358.37 | K31: 6504.5435 | L31: 207.59884 | M31: 104.70837 | N31: 147.62 | O31: 1992.6807 | P31: 1.5788648 | Q31: 3.2642177 | R31: =+VLOOKUP(YEAR(A31),PIB!$A$1:$C$22,3,0) -> 28548.945 | S31: =+I31/R31 -> 0.11020279 | T31: =+K31/R31 -> 0.22783831 | U31: =+E31/R31 -> 0.052596428 | V31: =+I31/I19-1 -> 0.34114686 | W31: =+K31/K19-1 -> 0.22735737 | X31: =+E31/E19-1 -> 0.33165715 | Y31: =+R31/R8-1 -> 0.55846754
A32: 37377 | B32: =+MONTH(A32) -> 5 | C32: =+YEAR(A32) -> 2002 | D32: II. Trim | E32: 1535.8122 | F32: 32.804133 | H32: 1632.47 | I32: 3201.0863 | J32: 3424.53 | K32: 6625.6163 | L32: 215.31214 | M32: 116.82171 | N32: 131.03 | O32: 2031.7802 | P32: 1.5755082 | Q32: 3.2609907 | R32: =+VLOOKUP(YEAR(A32),PIB!$A$1:$C$22,3,0) -> 28548.945 | S32: =+I32/R32 -> 0.11212626 | T32: =+K32/R32 -> 0.2320792 | U32: =+E32/R32 -> 0.05379576 | V32: =+I32/I20-1 -> 0.29764272 | W32: =+K32/K20-1 -> 0.23199957 | X32: =+E32/E20-1 -> 0.30854123 | Y32: =+R32/R9-1 -> 0.55846754
A33: 37408 | B33: =+MONTH(A33) -> 6 | C33: =+YEAR(A33) -> 2002 | D33: II. Trim | E33: 1645.7582 | F33: 33.979494 | H33: 1609.82 | I33: 3289.5577 | J33: 3506.82 | K33: 6796.3777 | L33: 228.16584 | M33: 43.035689 | N33: 144.36 | O33: 2095.2992 | P33: 1.5699704 | Q33: 3.2436311 | R33: =+VLOOKUP(YEAR(A33),PIB!$A$1:$C$22,3,0) -> 28548.945 | S33: =+I33/R33 -> 0.11522519 | T33: =+K33/R33 -> 0.23806056 | U33: =+E33/R33 -> 0.057646901 | V33: =+I33/I21-1 -> 0.34078225 | W33: =+K33/K21-1 -> 0.25779616 | X33: =+E33/E21-1 -> 0.37807069 | Y33: =+R33/R10-1 -> 0.55846754
A34: 37438 | B34: =+MONTH(A34) -> 7 | C34: =+YEAR(A34) -> 2002 | D34: III. Trim | E34: 1604.1539 | F34: 35.16 | H34: 1660.94 | I34: 3300.2539 | J34: 3666.01 | K34: 6966.2639 | L34: 230.38112 | M34: 115.1 | N34: 160.38 | O34: 2145.175 | P34: 1.5384544 | Q34: 3.2474105 | R34: =+VLOOKUP(YEAR(A34),PIB!$A$1:$C$22,3,0) -> 28548.945 | S34: =+I34/R34 -> 0.11559985 | T34: =+K34/R34 -> 0.24401126 | U34: =+E34/R34 -> 0.056189604 | V34: =+I34/I22-1 -> 0.34865474 | W34: =+K34/K22-1 -> 0.27903942 | X34: =+E34/E22-1 -> 0.20003942 | Y34: =+R34/R11-1 -> 0.55846754
A35: 37469 | B35: =+MONTH(A35) -> 8 | C35: =+YEAR(A35) -> 2002 | D35: III. Trim | E35: 1651.3457 | F35: 35.753481 | H35: 1650.51 | I35: 3337.6092 | J35: 3728.51 | K35: 7066.1192 | L35: 260.88991 | M35: 88.141173 | N35: 134.77 | O35: 2170.9003 | P35: 1.5374309 | Q35: 3.2549257 | R35: =+VLOOKUP(YEAR(A35),PIB!$A$1:$C$22,3,0) -> 28548.945 | S35: =+I35/R35 -> 0.11690832 | T35: =+K35/R35 -> 0.24750894 | U35: =+E35/R35 -> 0.057842618 | V35: =+I35/I23-1 -> 0.27447989 | W35: =+K35/K23-1 -> 0.25184345 | X35: =+E35/E23-1 -> 0.20683207 | Y35: =+R35/R12-1 -> 0.55846754
A36: 37500 | B36: =+MONTH(A36) -> 9 | C36: =+YEAR(A36) -> 2002 | D36: III. Trim | E36: 1630.9469 | F36: 36.81 | H36: 1710.87 | I36: 3378.6269 | J36: 3724.51 | K36: 7103.1369 | L36: 187.81 | M36: 102.35 | N36: 158.42 | O36: 2116.3369 | P36: 1.5964504 | Q36: 3.3563356 | R36: =+VLOOKUP(YEAR(A36),PIB!$A$1:$C$22,3,0) -> 28548.945 | S36: =+I36/R36 -> 0.11834507 | T36: =+K36/R36 -> 0.24880558 | U36: =+E36/R36 -> 0.057128097 | V36: =+I36/I24-1 -> 0.27773515 | W36: =+K36/K24-1 -> 0.23832145 | X36: =+E36/E24-1 -> 0.20031035 | Y36: =+R36/R13-1 -> 0.55846754
A37: 37530 | B37: =+MONTH(A37) -> 10 | C37: =+YEAR(A37) -> 2002 | D37: IV. Trim | E37: 1726.9381 | F37: 36.785586 | H37: 1686.82 | I37: 3450.5437 | J37: 3747.89 | K37: 7198.4337 | L37: 214.59373 | M37: 43.598826 | N37: 131.53 | O37: 2153.4462 | P37: 1.6023357 | Q37: 3.3427506 | R37: =+VLOOKUP(YEAR(A37),PIB!$A$1:$C$22,3,0) -> 28548.945 | S37: =+I37/R37 -> 0.12086414 | T37: =+K37/R37 -> 0.2521436 | U37: =+E37/R37 -> 0.060490434 | V37: =+I37/I25-1 -> 0.26853279 | W37: =+K37/K25-1 -> 0.23234347 | X37: =+E37/E25-1 -> 0.27348178 | Y37: =+R37/R14-1 -> 0.55846754
A38: 37561 | B38: =+MONTH(A38) -> 11 | C38: =+YEAR(A38) -> 2002 | D38: IV. Trim | E38: 1711.3696 | F38: 38.251845 | H38: 1685.71 | I38: 3435.3314 | J38: 3725.16 | K38: 7160.4914 | L38: 248.60928 | M38: 98.843082 | N38: 151.34 | O38: 2248.4138 | P38: 1.5278911 | Q38: 3.1846858 | R38: =+VLOOKUP(YEAR(A38),PIB!$A$1:$C$22,3,0) -> 28548.945 | S38: =+I38/R38 -> 0.12033129 | T38: =+K38/R38 -> 0.25081457 | U38: =+E38/R38 -> 0.059945107 | V38: =+I38/I26-1 -> 0.21477162 | W38: =+K38/K26-1 -> 0.18754976 | X38: =+E38/E26-1 -> 0.20345158 | Y38: =+R38/R15-1 -> 0.55846754
A39: 37591 | B39: =+MONTH(A39) -> 12 | C39: =+YEAR(A39) -> 2002 | D39: IV. Trim | E39: 1839.7847 | F39: 39.633884 | H39: 1823.59 | I39: 3703.0086 | J39: 3749.65 | K39: 7452.6586 | L39: 264.08579 | M39: 81.982936 | N39: 206.4 | O39: 2431.8873 | P39: 1.5226892 | Q39: 3.0645575 | R39: =+VLOOKUP(YEAR(A39),PIB!$A$1:$C$22,3,0) -> 28548.945 | S39: =+I39/R39 -> 0.12970737 | T39: =+K39/R39 -> 0.26104848 | U39: =+E39/R39 -> 0.064443177 | V39: =+I39/I27-1 -> 0.2490492 | W39: =+K39/K27-1 -> 0.21040877 | X39: =+E39/E27-1 -> 0.21721437 | Y39: =+R39/R16-1 -> 0.16677158
A40: 37622 | B40: =+MONTH(A40) -> 1 | C40: =+YEAR(A40) -> 2003 | D40: I. Trim | E40: 1800.3638 | F40: 40.058401 | H40: 1703.96 | I40: 3544.3822 | J40: 3727.02 | K40: 7271.4022 | L40: 207.83974 | M40: 80.1878 | N40: 146.06 | O40: 2274.5098 | P40: 1.558306 | Q40: 3.1969096 | R40: =+VLOOKUP(YEAR(A40),PIB!$A$1:$C$22,3,0) -> 32432.858 | S40: =+I40/R40 -> 0.10928369 | T40: =+K40/R40 -> 0.22419863 | U40: =+E40/R40 -> 0.05551049 | V40: =+I40/I28-1 -> 0.18168759 | W40: =+K40/K28-1 -> 0.15227146 | X40: =+E40/E28-1 -> 0.26664845 | Y40: =+R40/R17-1 -> 0.32550386
...

Sheet Gráfico 2.2
A1: Índice | B1: Agregados Monetarios
B2: Millones de USD y porcentaje
A3: Período | B3: mes | C3: año | D3: Trimestre | E3: Especies monetarias en circulación EMC | F3: Moneda Fraccionaria | G3: Dinero Electrónico | H3: Depósitos a la vista | I3: Oferta monetaria M1 | J3: Depósitos a plazo o Cuasidinero | K3: Liquidez total M2 | L3: Reservas Bancarias (6) | M3: Caja BCE | N3: Caja OSD | O3: BASE MONETARIA BM (7) | P3: Multiplicador M1/BM (8) | Q3: Multiplicador M2/BM | R3: PIB | S3: M1/PIB | T3: M2/PIB | U3: EMC/PIB | V3: TVA_M1 | W3: TVA_M2 | X3: TVA_EMC | Y3: TVA_PIB NOMINAL
A4: 36526 | B4: =+MONTH(A4) -> 1 | C4: =+YEAR(A4) -> 2000 | D4: I. Trim | E4: 536.23 | F4: 0 | H4: 533.76 | I4: 1069.99 | J4: 2208.43 | K4: 3278.42 | L4: 158.56 | M4: 82.04 | N4: 96.54 | O4: 873.37 | P4: 1.225128 | Q4: 3.7537584 | R4: =+VLOOKUP(YEAR(A4),PIB!$A$1:$C$22,3,0) -> 18318.601 | S4: =+I4/R4 -> 0.058410028 | T4: =+K4/R4 -> 0.17896672 | U4: =+E4/R4 -> 0.029272432 | AB4: Período | AC4: (Varios elementos)
A5: 36557 | B5: =+MONTH(A5) -> 2 | C5: =+YEAR(A5) -> 2000 | D5: I. Trim | E5: 530.42 | F5: 0 | H5: 596.49 | I5: 1126.91 | J5: 2225.48 | K5: 3352.39 | L5: 124.58 | M5: 98.85 | N5: 85.54 | O5: 839.39 | P5: 1.3425345 | Q5: 3.9938408 | R5: =+VLOOKUP(YEAR(A5),PIB!$A$1:$C$22,3,0) -> 18318.601 | S5: =+I5/R5 -> 0.061517252 | T5: =+K5/R5 -> 0.1830047 | U5: =+E5/R5 -> 0.028955268
A6: 36586 | B6: =+MONTH(A6) -> 3 | C6: =+YEAR(A6) -> 2000 | D6: I. Trim | E6: 557.46 | F6: 0 | H6: 696.03 | I6: 1253.49 | J6: 2199.92 | K6: 3453.41 | L6: 206.19 | M6: 54.78 | N6: 102.57 | O6: 921 | P6: 1.3610098 | Q6: 3.7496308 | R6: =+VLOOKUP(YEAR(A6),PIB!$A$1:$C$22,3,0) -> 18318.601 | S6: =+I6/R6 -> 0.068427169 | T6: =+K6/R6 -> 0.18851931 | U6: =+E6/R6 -> 0.030431363 | AC6: Valores
A7: 36617 | B7: =+MONTH(A7) -> 4 | C7: =+YEAR(A7) -> 2000 | D7: II. Trim | E7: 567.96 | F7: 0 | H7: 697.88 | I7: 1265.84 | J7: 2380.72 | K7: 3646.56 | L7: 223.89 | M7: 96.78 | N7: 114.36 | O7: 1002.99 | P7: 1.2620664 | Q7: 3.6356893 | R7: =+VLOOKUP(YEAR(A7),PIB!$A$1:$C$22,3,0) -> 18318.601 | S7: =+I7/R7 -> 0.069101347 | T7: =+K7/R7 -> 0.19906324 | U7: =+E7/R7 -> 0.031004551 | AB7: Etiquetas de fila | AC7: M2 | AD7: M1 | AE7: EMC | AF7: PIB Nominal
A8: 36647 | B8: =+MONTH(A8) -> 5 | C8: =+YEAR(A8) -> 2000 | D8: II. Trim | E8: 625.34 | F8: 0 | H8: 801.82 | I8: 1427.16 | J8: 2433.46 | K8: 3860.62 | L8: 201.98 | M8: 104.53 | N8: 125.77 | O8: 1057.62 | P8: 1.3494072 | Q8: 3.6502903 | R8: =+VLOOKUP(YEAR(A8),PIB!$A$1:$C$22,3,0) -> 18318.601 | S8: =+I8/R8 -> 0.077907696 | T8: =+K8/R8 -> 0.21074863 | U8: =+E8/R8 -> 0.034136886 | AB8: 2001 | AC8: 0.26308068 | AD8: 0.41701235 | AE8: 0.3492365 | AF8: 0.33570921
A9: 36678 | B9: =+MONTH(A9) -> 6 | C9: =+YEAR(A9) -> 2000 | D9: II. Trim | E9: 804.822 | F9: 0 | H9: 807.97 | I9: 1612.792 | J9: 2477.5 | K9: 4090.292 | L9: 212.19 | M9: 61.71 | N9: 102.63 | O9: 1181.352 | P9: 1.3652087 | Q9: 3.4623821 | R9: =+VLOOKUP(YEAR(A9),PIB!$A$1:$C$22,3,0) -> 18318.601 | S9: =+I9/R9 -> 0.088041221 | T9: =+K9/R9 -> 0.22328627 | U9: =+E9/R9 -> 0.043934687 | AB9: 2002 | AC9: 0.21040877 | AD9: 0.2490492 | AE9: 0.21721437 | AF9: 0.16677158
A10: 36708 | B10: =+MONTH(A10) -> 7 | C10: =+YEAR(A10) -> 2000 | D10: III. Trim | E10: 857.09 | F10: 0 | H10: 852.62 | I10: 1709.71 | J10: 2510.18 | K10: 4219.89 | L10: 204.33 | M10: 113.37 | N10: 102.76 | O10: 1277.55 | P10: 1.3382725 | Q10: 3.3031114 | R10: =+VLOOKUP(YEAR(A10),PIB!$A$1:$C$22,3,0) -> 18318.601 | S10: =+I10/R10 -> 0.093331909 | T10: =+K10/R10 -> 0.23036093 | U10: =+E10/R10 -> 0.046787962 | AB10: 2003 | AC10: -0.037039349 | AD10: 0.062948376 | AE10: 0.15301648 | AF10: 0.13604401
A11: 36739 | B11: =+MONTH(A11) -> 8 | C11: =+YEAR(A11) -> 2000 | D11: III. Trim | E11: 942.57 | F11: 0 | H11: 827.48 | I11: 1770.05 | J11: 2609.8 | K11: 4379.85 | L11: 222.93 | M11: 120.58 | N11: 100.82 | O11: 1386.9 | P11: 1.2762636 | Q11: 3.1580143 | R11: =+VLOOKUP(YEAR(A11),PIB!$A$1:$C$22,3,0) -> 18318.601 | S11: =+I11/R11 -> 0.096625829 | T11: =+K11/R11 -> 0.23909304 | U11: =+E11/R11 -> 0.051454257 | AB11: 2004 | AC11: 0.20928101 | AD11: 0.165219 | AE11: 0.063161472 | AF11: 0.12822808
A12: 36770 | B12: =+MONTH(A12) -> 9 | C12: =+YEAR(A12) -> 2000 | D12: III. Trim | E12: 928.532 | F12: 7.46 | H12: 828.77 | I12: 1764.762 | J12: 2632.05 | K12: 4396.812 | L12: 246.35 | M12: 138.6 | N12: 96.91 | O12: 1417.852 | P12: 1.2446729 | Q12: 3.1010373 | R12: =+VLOOKUP(YEAR(A12),PIB!$A$1:$C$22,3,0) -> 18318.601 | S12: =+I12/R12 -> 0.09633716 | T12: =+K12/R12 -> 0.24001898 | U12: =+E12/R12 -> 0.050687932 | AB12: 2005 | AC12: 0.2042799 | AD12: 0.1797767 | AE12: 0.19220144 | AF12: 0.13433181
A13: 36800 | B13: =+MONTH(A13) -> 10 | C13: =+YEAR(A13) -> 2000 | D13: IV. Trim | E13: 934.782 | F13: 16.34 | H13: 870.22 | I13: 1821.342 | J13: 2663.08 | K13: 4484.422 | L13: 232.76 | M13: 162.78 | N13: 105.68 | O13: 1452.342 | P13: 1.2540724 | Q13: 3.0877176 | R13: =+VLOOKUP(YEAR(A13),PIB!$A$1:$C$22,3,0) -> 18318.601 | S13: =+I13/R13 -> 0.099425824 | T13: =+K13/R13 -> 0.24480155 | U13: =+E13/R13 -> 0.051029115 | AB13: 2006 | AC13: 0.15616528 | AD13: 0.15687342 | AE13: 0.12693936 | AF13: 0.12756759
A14: 36831 | B14: =+MONTH(A14) -> 11 | C14: =+YEAR(A14) -> 2000 | D14: IV. Trim | E14: 978.852 | F14: 20.76 | H14: 871.22 | I14: 1870.832 | J14: 2730.1 | K14: 4600.932 | L14: 242.5 | M14: 189.09 | N14: 104.3 | O14: 1535.502 | P14: 1.2183846 | Q14: 2.9963699 | R14: =+VLOOKUP(YEAR(A14),PIB!$A$1:$C$22,3,0) -> 18318.601 | S14: =+I14/R14 -> 0.10212745 | T14: =+K14/R14 -> 0.25116176 | U14: =+E14/R14 -> 0.053434867 | AB14: 2007 | AC14: 0.15969885 | AD14: 0.1197193 | AE14: 0.082255098 | AF14: 0.089862165
A15: 36861 | B15: =+MONTH(A15) -> 12 | C15: =+YEAR(A15) -> 2000 | D15: IV. Trim | E15: 1120.242 | F15: 23.49 | H15: 948.46 | I15: 2092.192 | J15: 2782.51 | K15: 4874.702 | L15: 225.92 | M15: 115.41 | N15: 121.47 | O15: 1606.532 | P15: 1.3023033 | Q15: 3.0343012 | R15: =+VLOOKUP(YEAR(A15),PIB!$A$1:$C$22,3,0) -> 18318.601 | S15: =+I15/R15 -> 0.11421134 | T15: =+K15/R15 -> 0.26610667 | U15: =+E15/R15 -> 0.061153251 | AB15: 2008 | AC15: 0.22578508 | AD15: 0.26694836 | AE15: 0.24973499 | AF15: 0.21084742
A16: 36892 | B16: =+MONTH(A16) -> 1 | C16: =+YEAR(A16) -> 2001 | D16: I. Trim | E16: 1022.74 | F16: 24.04 | H16: 1023.79 | I16: 2070.57 | J16: 2837.65 | K16: 4908.22 | L16: 131.67327 | M16: 243.51 | N16: 120.92 | O16: 1542.8833 | P16: 1.3420134 | Q16: 3.1811998 | R16: =+VLOOKUP(YEAR(A16),PIB!$A$1:$C$22,3,0) -> 24468.324 | S16: =+I16/R16 -> 0.084622469 | T16: =+K16/R16 -> 0.20059486 | U16: =+E16/R16 -> 0.041798531 | V16: =+I16/I4-1 -> 0.93513023 | W16: =+K16/K4-1 -> 0.49712971 | X16: =+E16/E4-1 -> 0.90727859 | AB16: 2009 | AC16: 0.082154989 | AD16: 0.037088531 | AE16: 0.032168346 | AF16: 0.012257427
A17: 36923 | B17: =+MONTH(A17) -> 2 | C17: =+YEAR(A17) -> 2001 | D17: I. Trim | E17: 1044.543 | F17: 25.517 | H17: 1078.31 | I17: 2148.37 | J17: 2861.97 | K17: 5010.34 | L17: 126.44386 | M17: 237.615 | N17: 136.72 | O17: 1570.8389 | P17: 1.3676578 | Q17: 3.1895952 | R17: =+VLOOKUP(YEAR(A17),PIB!$A$1:$C$22,3,0) -> 24468.324 | S17: =+I17/R17 -> 0.087802091 | T17: =+K17/R17 -> 0.20476842 | U17: =+E17/R17 -> 0.042689601 | V17: =+I17/I5-1 -> 0.90642554 | W17: =+K17/K5-1 -> 0.49455761 | X17: =+E17/E5-1 -> 0.96927529 | AB17: 2010 | AC17: 0.1937174 | AD17: 0.17009058 | AE17: 0.074534924 | AF17: 0.11253545
A18: 36951 | B18: =+MONTH(A18) -> 3 | C18: =+YEAR(A18) -> 2001 | D18: I. Trim | E18: 1067.7829 | F18: 27.32335 | H18: 1175.88 | I18: 2270.9862 | J18: 2912.9 | K18: 5183.8862 | L18: 169.9813 | M18: 246.44314 | N18: 104.35 | O18: 1615.8806 | P18: 1.405417 | Q18: 3.2080873 | R18: =+VLOOKUP(YEAR(A18),PIB!$A$1:$C$22,3,0) -> 24468.324 | S18: =+I18/R18 -> 0.092813313 | T18: =+K18/R18 -> 0.21186111 | U18: =+E18/R18 -> 0.043639395 | V18: =+I18/I6-1 -> 0.81173062 | W18: =+K18/K6-1 -> 0.50109202 | X18: =+E18/E6-1 -> 0.91544301 | AB18: 2011 | AC18: 0.19683349 | AD18: 0.12219771 | AE18: 0.16403354 | AF18: 0.13976343
A19: 36982 | B19: =+MONTH(A19) -> 4 | C19: =+YEAR(A19) -> 2001 | D19: II. Trim | E19: 1127.5969 | F19: 28.35594 | H19: 1189.93 | I19: 2345.8829 | J19: 2953.75 | K19: 5299.6329 | L19: 166.54016 | M19: 96.60906 | N19: 118.27 | O19: 1537.3721 | P19: 1.5259044 | Q19: 3.4472025 | R19: =+VLOOKUP(YEAR(A19),PIB!$A$1:$C$22,3,0) -> 24468.324 | S19: =+I19/R19 -> 0.095874277 | T19: =+K19/R19 -> 0.21659158 | U19: =+E19/R19 -> 0.046083947 | V19: =+I19/I7-1 -> 0.85322227 | W19: =+K19/K7-1 -> 0.45332392 | X19: =+E19/E7-1 -> 0.98534569 | AB19: 2012 | AC19: 0.16374331 | AD19: 0.20000529 | AE19: 0.19575929 | AF19: 0.10908481
A20: 37012 | B20: =+MONTH(A20) -> 5 | C20: =+YEAR(A20) -> 2001 | D20: II. Trim | E20: 1173.6827 | F20: 27.04451 | H20: 1266.12 | I20: 2466.8472 | J20: 2911.09 | K20: 5377.9372 | L20: 150.52872 | M20: 164.91331 | N20: 123.64 | O20: 1639.8092 | P20: 1.5043501 | Q20: 3.2796115 | R20: =+VLOOKUP(YEAR(A20),PIB!$A$1:$C$22,3,0) -> 24468.324 | S20: =+I20/R20 -> 0.10081799 | T20: =+K20/R20 -> 0.21979181 | U20: =+E20/R20 -> 0.047967433 | V20: =+I20/I8-1 -> 0.7285008 | W20: =+K20/K8-1 -> 0.39302423 | X20: =+E20/E8-1 -> 0.87687129 | AB20: 2013 | AC20: 0.13413893 | AD20: 0.12133731 | AE20: 0.16443204 | AF20: 0.081946572
A21: 37043 | B21: =+MONTH(A21) -> 6 | C21: =+YEAR(A21) -> 2001 | D21: II. Trim | E21: 1194.248 | F21: 25.72352 | H21: 1233.49 | I21: 2453.4615 | J21: 2949.94 | K21: 5403.4015 | L21: 143.70246 | M21: 159.72697 | N21: 106.37 | O21: 1629.771 | P21: 1.5054026 | Q21: 3.3154361 | R21: =+VLOOKUP(YEAR(A21),PIB!$A$1:$C$22,3,0) -> 24468.324 | S21: =+I21/R21 -> 0.10027093 | T21: =+K21/R21 -> 0.22083252 | U21: =+E21/R21 -> 0.048807921 | V21: =+I21/I9-1 -> 0.52125107 | W21: =+K21/K9-1 -> 0.32103076 | X21: =+E21/E9-1 -> 0.48386603 | AB21: 2014 | AC21: 0.14416739 | AD21: 0.14889549 | AE21: 0.29494013 | AF21: 0.06934401
A22: 37073 | B22: =+MONTH(A22) -> 7 | C22: =+YEAR(A22) -> 2001 | D22: III. Trim | E22: 1336.751 | F22: 25.49 | H22: 1084.83 | I22: 2447.071 | J22: 2999.41 | K22: 5446.481 | L22: 204.57269 | M22: 147.73 | N22: 139.94 | O22: 1854.4837 | P22: 1.319543 | Q22: 2.9369258 | R22: =+VLOOKUP(YEAR(A22),PIB!$A$1:$C$22,3,0) -> 24468.324 | S22: =+I22/R22 -> 0.10000975 | T22: =+K22/R22 -> 0.22259314 | U22: =+E22/R22 -> 0.054631899 | V22: =+I22/I10-1 -> 0.4312784 | W22: =+K22/K10-1 -> 0.29066895 | X22: =+E22/E10-1 -> 0.55963901 | AB22: 2015 | AC22: -0.011314576 | AD22: 0.018525286 | AE22: 0.23205416 | AF22: -0.023946111
A23: 37104 | B23: =+MONTH(A23) -> 8 | C23: =+YEAR(A23) -> 2001 | D23: III. Trim | E23: 1368.331 | F23: 25.28 | H23: 1225.19 | I23: 2618.801 | J23: 3025.77 | K23: 5644.571 | L23: 162.16203 | M23: 168.93 | N23: 103.78 | O23: 1828.483 | P23: 1.432226 | Q23: 3.087024 | R23: =+VLOOKUP(YEAR(A23),PIB!$A$1:$C$22,3,0) -> 24468.324 | S23: =+I23/R23 -> 0.10702821 | T23: =+K23/R23 -> 0.23068891 | U23: =+E23/R23 -> 0.055922547 | V23: =+I23/I11-1 -> 0.47950679 | W23: =+K23/K11-1 -> 0.28875898 | X23: =+E23/E11-1 -> 0.45170226 | AB23: 2016 | AC23: 0.16488193 | AD23: 0.18869936 | AE23: 0.12825357 | AF23: 0.006519413
A24: 37135 | B24: =+MONTH(A24) -> 9 | C24: =+YEAR(A24) -> 2001 | D24: III. Trim | E24: 1358.771 | F24: 25.76 | H24: 1259.7 | I24: 2644.231 | J24: 3091.87 | K24: 5736.101 | L24: 137.44185 | M24: 147.58 | N24: 111.03 | O24: 1780.5828 | P24: 1.4850368 | Q24: 3.2214738 | R24: =+VLOOKUP(YEAR(A24),PIB!$A$1:$C$22,3,0) -> 24468.324 | S24: =+I24/R24 -> 0.10806752 | T24: =+K24/R24 -> 0.23442967 | U24: =+E24/R24 -> 0.055531838 | V24: =+I24/I12-1 -> 0.49834992 | W24: =+K24/K12-1 -> 0.30460456 | X24: =+E24/E12-1 -> 0.46335398 | AB24: 2017 | AC24: 0.099646744 | AD24: 0.083752043 | AE24: 0.12046958 | AF24: 0.04360883
A25: 37165 | B25: =+MONTH(A25) -> 10 | C25: =+YEAR(A25) -> 2001 | D25: IV. Trim | E25: 1356.076 | F25: 26.32 | H25: 1337.71 | I25: 2720.106 | J25: 3121.15 | K25: 5841.256 | L25: 151.99268 | M25: 142.46 | N25: 117.62 | O25: 1794.4687 | P25: 1.5158281 | Q25: 3.2551451 | R25: =+VLOOKUP(YEAR(A25),PIB!$A$1:$C$22,3,0) -> 24468.324 | S25: =+I25/R25 -> 0.11116846 | T25: =+K25/R25 -> 0.23872726 | U25: =+E25/R25 -> 0.055421695 | V25: =+I25/I13-1 -> 0.49346251 | W25: =+K25/K13-1 -> 0.30256608 | X25: =+E25/E13-1 -> 0.4506869 | AB25: 2018 | AC25: 0.056584297 | AD25: 0.029735649 | AE25: 0.071149313 | AF25: 0.031316161
A26: 37196 | B26: =+MONTH(A26) -> 11 | C26: =+YEAR(A26) -> 2001 | D26: IV. Trim | E26: 1422.051 | F26: 26.313791 | H26: 1379.6 | I26: 2827.9648 | J26: 3201.67 | K26: 6029.6348 | L26: 199.48054 | M26: 123.38797 | N26: 116.63 | O26: 1887.8633 | P26: 1.4979712 | Q26: 3.1938937 | R26: =+VLOOKUP(YEAR(A26),PIB!$A$1:$C$22,3,0) -> 24468.324 | S26: =+I26/R26 -> 0.11557656 | T26: =+K26/R26 -> 0.24642615 | U26: =+E26/R26 -> 0.05811804 | V26: =+I26/I14-1 -> 0.51160811 | W26: =+K26/K14-1 -> 0.31052465 | X26: =+E26/E14-1 -> 0.4527743 | AB26: 2019 | AC26: 0.080182781 | AD26: 0.037086318 | AE26: 0.065994851 | AF26: -0.0011746062
A27: 37226 | B27: =+MONTH(A27) -> 12 | C27: =+YEAR(A27) -> 2001 | D27: IV. Trim | E27: 1511.4714 | F27: 27.210505 | H27: 1425.98 | I27: 2964.6619 | J27: 3192.48 | K27: 6157.1419 | L27: 261.37105 | M27: 79.3956 | N27: 149.93 | O27: 2029.3786 | P27: 1.4608718 | Q27: 3.0340036 | R27: =+VLOOKUP(YEAR(A27),PIB!$A$1:$C$22,3,0) -> 24468.324 | S27: =+I27/R27 -> 0.12116326 | T27: =+K27/R27 -> 0.25163726 | U27: =+E27/R27 -> 0.061772576 | V27: =+I27/I15-1 -> 0.41701235 | W27: =+K27/K15-1 -> 0.26308068 | X27: =+E27/E15-1 -> 0.3492365 | Y27: =+R27/R15-1 -> 0.33570921 | AB27: 2020 (jun) | AC27: 0.094390831 | AD27: 0.108433 | AE27: 0.14923494 | AF27: -0.10272726
A28: 37257 | B28: =+MONTH(A28) -> 1 | C28: =+YEAR(A28) -> 2002 | D28: I. Trim | E28: 1421.3603 | F28: 27.89379 | H28: 1550.17 | I28: 2999.4241 | J28: 3311.07 | K28: 6310.4941 | L28: 199.44533 | M28: 118.36368 | N28: 134.72 | O28: 1901.7831 | P28: 1.5771641 | Q28: 3.3181986 | R28: =+VLOOKUP(YEAR(A28),PIB!$A$1:$C$22,3,0) -> 28548.945 | S28: =+I28/R28 -> 0.10506252 | T28: =+K28/R28 -> 0.22104124 | U28: =+E28/R28 -> 0.04978679 | V28: =+I28/I16-1 -> 0.44859827 | W28: =+K28/K16-1 -> 0.28569912 | X28: =+E28/E16-1 -> 0.38975724 | Y28: =+R28/R16-1 -> 0.16677158
A29: 37288 | B29: =+MONTH(A29) -> 2 | C29: =+YEAR(A29) -> 2002 | D29: I. Trim | E29: 1422.8859 | F29: 28.780721 | H29: 1530.78 | I29: 2982.4466 | J29: 3352.47 | K29: 6334.9166 | L29: 249.67325 | M29: 128.92813 | N29: 138.07 | O29: 1968.338 | P29: 1.5152106 | Q29: 3.218409 | R29: =+VLOOKUP(YEAR(A29),PIB!$A$1:$C$22,3,0) -> 28548.945 | S29: =+I29/R29 -> 0.10446784 | T29: =+K29/R29 -> 0.2218967 | U29: =+E29/R29 -> 0.049840226 | V29: =+I29/I17-1 -> 0.38823694 | W29: =+K29/K17-1 -> 0.2643686 | X29: =+E29/E17-1 -> 0.362209 | Y29: =+R29/R17-1 -> 0.16677158
A30: 37316 | B30: =+MONTH(A30) -> 3 | C30: =+YEAR(A30) -> 2002 | D30: I. Trim | E30: 1509.993 | F30: 29.884117 | H30: 1544.57 | I30: 3084.4472 | J30: 3393.36 | K30: 6477.8072 | L30: 209.94687 | M30: 83.402862 | N30: 131.19 | O30: 1964.4169 | P30: 1.5701592 | Q30: 3.2975725 | R30: =+VLOOKUP(YEAR(A30),PIB!$A$1:$C$22,3,0) -> 28548.945 | S30: =+I30/R30 -> 0.10804067 | T30: =+K30/R30 -> 0.22690181 | U30: =+E30/R30 -> 0.052891378 | V30: =+I30/I18-1 -> 0.35819722 | W30: =+K30/K18-1 -> 0.24960443 | X30: =+E30/E18-1 -> 0.41413867 | Y30: =+R30/R18-1 -> 0.16677158
A31: 37347 | B31: =+MONTH(A31) -> 4 | C31: =+YEAR(A31) -> 2002 | D31: II. Trim | E31: 1501.5725 | F31: 31.180929 | H31: 1613.42 | I31: 3146.1735 | J31: 3358.37 | K31: 6504.5435 | L31: 207.59884 | M31: 104.70837 | N31: 147.62 | O31: 1992.6807 | P31: 1.5788648 | Q31: 3.2642177 | R31: =+VLOOKUP(YEAR(A31),PIB!$A$1:$C$22,3,0) -> 28548.945 | S31: =+I31/R31 -> 0.11020279 | T31: =+K31/R31 -> 0.22783831 | U31: =+E31/R31 -> 0.052596428 | V31: =+I31/I19-1 -> 0.34114686 | W31: =+K31/K19-1 -> 0.22735737 | X31: =+E31/E19-1 -> 0.33165715 | Y31: =+R31/R19-1 -> 0.16677158 | AB31: Gráfico 2.2 Evolución de los Agregados Monetarios vs PIB Nominal
A32: 37377 | B32: =+MONTH(A32) -> 5 | C32: =+YEAR(A32) -> 2002 | D32: II. Trim | E32: 1535.8122 | F32: 32.804133 | H32: 1632.47 | I32: 3201.0863 | J32: 3424.53 | K32: 6625.6163 | L32: 215.31214 | M32: 116.82171 | N32: 131.03 | O32: 2031.7802 | P32: 1.5755082 | Q32: 3.2609907 | R32: =+VLOOKUP(YEAR(A32),PIB!$A$1:$C$22,3,0) -> 28548.945 | S32: =+I32/R32 -> 0.11212626 | T32: =+K32/R32 -> 0.2320792 | U32: =+E32/R32 -> 0.05379576 | V32: =+I32/I20-1 -> 0.29764272 | W32: =+K32/K20-1 -> 0.23199957 | X32: =+E32/E20-1 -> 0.30854123 | Y32: =+R32/R20-1 -> 0.16677158
A33: 37408 | B33: =+MONTH(A33) -> 6 | C33: =+YEAR(A33) -> 2002 | D33: II. Trim | E33: 1645.7582 | F33: 33.979494 | H33: 1609.82 | I33: 3289.5577 | J33: 3506.82 | K33: 6796.3777 | L33: 228.16584 | M33: 43.035689 | N33: 144.36 | O33: 2095.2992 | P33: 1.5699704 | Q33: 3.2436311 | R33: =+VLOOKUP(YEAR(A33),PIB!$A$1:$C$22,3,0) -> 28548.945 | S33: =+I33/R33 -> 0.11522519 | T33: =+K33/R33 -> 0.23806056 | U33: =+E33/R33 -> 0.057646901 | V33: =+I33/I21-1 -> 0.34078225 | W33: =+K33/K21-1 -> 0.25779616 | X33: =+E33/E21-1 -> 0.37807069 | Y33: =+R33/R21-1 -> 0.16677158
A34: 37438 | B34: =+MONTH(A34) -> 7 | C34: =+YEAR(A34) -> 2002 | D34: III. Trim | E34: 1604.1539 | F34: 35.16 | H34: 1660.94 | I34: 3300.2539 | J34: 3666.01 | K34: 6966.2639 | L34: 230.38112 | M34: 115.1 | N34: 160.38 | O34: 2145.175 | P34: 1.5384544 | Q34: 3.2474105 | R34: =+VLOOKUP(YEAR(A34),PIB!$A$1:$C$22,3,0) -> 28548.945 | S34: =+I34/R34 -> 0.11559985 | T34: =+K34/R34 -> 0.24401126 | U34: =+E34/R34 -> 0.056189604 | V34: =+I34/I22-1 -> 0.34865474 | W34: =+K34/K22-1 -> 0.27903942 | X34: =+E34/E22-1 -> 0.20003942 | Y34: =+R34/R22-1 -> 0.16677158
A35: 37469 | B35: =+MONTH(A35) -> 8 | C35: =+YEAR(A35) -> 2002 | D35: III. Trim | E35: 1651.3457 | F35: 35.753481 | H35: 1650.51 | I35: 3337.6092 | J35: 3728.51 | K35: 7066.1192 | L35: 260.88991 | M35: 88.141173 | N35: 134.77 | O35: 2170.9003 | P35: 1.5374309 | Q35: 3.2549257 | R35: =+VLOOKUP(YEAR(A35),PIB!$A$1:$C$22,3,0) -> 28548.945 | S35: =+I35/R35 -> 0.11690832 | T35: =+K35/R35 -> 0.24750894 | U35: =+E35/R35 -> 0.057842618 | V35: =+I35/I23-1 -> 0.27447989 | W35: =+K35/K23-1 -> 0.25184345 | X35: =+E35/E23-1 -> 0.20683207 | Y35: =+R35/R23-1 -> 0.16677158
A36: 37500 | B36: =+MONTH(A36) -> 9 | C36: =+YEAR(A36) -> 2002 | D36: III. Trim | E36: 1630.9469 | F36: 36.81 | H36: 1710.87 | I36: 3378.6269 | J36: 3724.51 | K36: 7103.1369 | L36: 187.81 | M36: 102.35 | N36: 158.42 | O36: 2116.3369 | P36: 1.5964504 | Q36: 3.3563356 | R36: =+VLOOKUP(YEAR(A36),PIB!$A$1:$C$22,3,0) -> 28548.945 | S36: =+I36/R36 -> 0.11834507 | T36: =+K36/R36 -> 0.24880558 | U36: =+E36/R36 -> 0.057128097 | V36: =+I36/I24-1 -> 0.27773515 | W36: =+K36/K24-1 -> 0.23832145 | X36: =+E36/E24-1 -> 0.20031035 | Y36: =+R36/R24-1 -> 0.16677158
A37: 37530 | B37: =+MONTH(A37) -> 10 | C37: =+YEAR(A37) -> 2002 | D37: IV. Trim | E37: 1726.9381 | F37: 36.785586 | H37: 1686.82 | I37: 3450.5437 | J37: 3747.89 | K37: 7198.4337 | L37: 214.59373 | M37: 43.598826 | N37: 131.53 | O37: 2153.4462 | P37: 1.6023357 | Q37: 3.3427506 | R37: =+VLOOKUP(YEAR(A37),PIB!$A$1:$C$22,3,0) -> 28548.945 | S37: =+I37/R37 -> 0.12086414 | T37: =+K37/R37 -> 0.2521436 | U37: =+E37/R37 -> 0.060490434 | V37: =+I37/I25-1 -> 0.26853279 | W37: =+K37/K25-1 -> 0.23234347 | X37: =+E37/E25-1 -> 0.27348178 | Y37: =+R37/R25-1 -> 0.16677158
A38: 37561 | B38: =+MONTH(A38) -> 11 | C38: =+YEAR(A38) -> 2002 | D38: IV. Trim | E38: 1711.3696 | F38: 38.251845 | H38: 1685.71 | I38: 3435.3314 | J38: 3725.16 | K38: 7160.4914 | L38: 248.60928 | M38: 98.843082 | N38: 151.34 | O38: 2248.4138 | P38: 1.5278911 | Q38: 3.1846858 | R38: =+VLOOKUP(YEAR(A38),PIB!$A$1:$C$22,3,0) -> 28548.945 | S38: =+I38/R38 -> 0.12033129 | T38: =+K38/R38 -> 0.25081457 | U38: =+E38/R38 -> 0.059945107 | V38: =+I38/I26-1 -> 0.21477162 | W38: =+K38/K26-1 -> 0.18754976 | X38: =+E38/E26-1 -> 0.20345158 | Y38: =+R38/R26-1 -> 0.16677158
A39: 37591 | B39: =+MONTH(A39) -> 12 | C39: =+YEAR(A39) -> 2002 | D39: IV. Trim | E39: 1839.7847 | F39: 39.633884 | H39: 1823.59 | I39: 3703.0086 | J39: 3749.65 | K39: 7452.6586 | L39: 264.08579 | M39: 81.982936 | N39: 206.4 | O39: 2431.8873 | P39: 1.5226892 | Q39: 3.0645575 | R39: =+VLOOKUP(YEAR(A39),PIB!$A$1:$C$22,3,0) -> 28548.945 | S39: =+I39/R39 -> 0.12970737 | T39: =+K39/R39 -> 0.26104848 | U39: =+E39/R39 -> 0.064443177 | V39: =+I39/I27-1 -> 0.2490492 | W39: =+K39/K27-1 -> 0.21040877 | X39: =+E39/E27-1 -> 0.21721437 | Y39: =+R39/R27-1 -> 0.16677158
A40: 37622 | B40: =+MONTH(A40) -> 1 | C40: =+YEAR(A40) -> 2003 | D40: I. Trim | E40: 1800.3638 | F40: 40.058401 | H40: 1703.96 | I40: 3544.3822 | J40: 3727.02 | K40: 7271.4022 | L40: 207.83974 | M40: 80.1878 | N40: 146.06 | O40: 2274.5098 | P40: 1.558306 | Q40: 3.1969096 | R40: =+VLOOKUP(YEAR(A40),PIB!$A$1:$C$22,3,0) -> 32432.858 | S40: =+I40/R40 -> 0.10928369 | T40: =+K40/R40 -> 0.22419863 | U40: =+E40/R40 -> 0.05551049 | V40: =+I40/I28-1 -> 0.18168759 | W40: =+K40/K28-1 -> 0.15227146 | X40: =+E40/E28-1 -> 0.26664845 | Y40: =+R40/R28-1 -> 0.13604401
...

Sheet Gráfico 2.3 
A1: Evolución de la RMI, RILD y RI
A2: Millones de USD y Porcentaje
A6: Período | B6: Mes | C6: Año | D6: Trimestre | E6: RMI_RILD_RI | F6: PIB | G6: RMI_RILD_RI/PIB | H6: RMI | I6: RILD | J6: RI
A7: 1990 | B7: 12 | C7: 1990 | D7: IV. Trim | E7: 603.27476 | F7: =+VLOOKUP(A7,[20]PIB!$F$1:$G$93,2,0) -> 15231.973 | G7: =+H7/F7 -> 0.039605819 | H7: 603.27476
A8: 1991 | B8: 12 | C8: 1991 | D8: IV. Trim | E8: 760.44699 | F8: =+VLOOKUP(A8,[20]PIB!$F$1:$G$93,2,0) -> 16980.041 | G8: =+H8/F8 -> 0.044784756 | H8: 760.44699
A9: 1992 | B9: 12 | C9: 1992 | D9: IV. Trim | E9: 781.85757 | F9: =+VLOOKUP(A9,[20]PIB!$F$1:$G$93,2,0) -> 18085.191 | G9: =+H9/F9 -> 0.043231922 | H9: 781.85757
A10: 1993 | B10: 12 | C10: 1993 | D10: IV. Trim | E10: 1253.8031 | F10: =+VLOOKUP(A10,[20]PIB!$F$1:$G$93,2,0) -> 18929.248 | G10: =+H10/F10 -> 0.066236285 | H10: 1253.8031
A11: 1994 | B11: 12 | C11: 1994 | D11: IV. Trim | E11: 1711.7385 | F11: =+VLOOKUP(A11,[20]PIB!$F$1:$G$93,2,0) -> 22697.319 | G11: =+H11/F11 -> 0.075415891 | H11: 1711.7385
A12: 1995 | B12: 12 | C12: 1995 | D12: IV. Trim | E12: 1556.6145 | F12: =+VLOOKUP(A12,[20]PIB!$F$1:$G$93,2,0) -> 24420.668 | G12: =+H12/F12 -> 0.063741683 | H12: 1556.6145
A13: 1996 | B13: 12 | C13: 1996 | D13: IV. Trim | E13: 1831.461 | F13: =+VLOOKUP(A13,[20]PIB!$F$1:$G$93,2,0) -> 25213.78 | G13: =+H13/F13 -> 0.072637304 | H13: 1831.461
A14: 1997 | B14: 12 | C14: 1997 | D14: IV. Trim | E14: 2093.3697 | F14: =+VLOOKUP(A14,[20]PIB!$F$1:$G$93,2,0) -> 28147.972 | G14: =+H14/F14 -> 0.07437018 | H14: 2093.3697
A15: 1998 | B15: 12 | C15: 1998 | D15: IV. Trim | E15: 1698.3155 | F15: =+VLOOKUP(A15,[20]PIB!$F$1:$G$93,2,0) -> 27967.906 | G15: =+H15/F15 -> 0.060723728 | H15: 1698.3155
A16: 1999 | B16: 12 | C16: 1999 | D16: IV. Trim | E16: 1276 | F16: =+VLOOKUP(A16,[20]PIB!$F$1:$G$93,2,0) -> 19635.45 | G16: =+H16/F16 -> 0.064984505 | H16: 1276
A17: 36861 | B17: =+MONTH(A17) -> 12 | C17: =+YEAR(A17) -> 2000 | D17: IV. Trim | E17: 1179.69 | F17: =+VLOOKUP(YEAR(A17),[20]PIB!$F$1:$G$93,2,0) -> 18318.601 | G17: =+E17/F17 -> 0.064398477 | I17: 1179.69
A18: 37226 | B18: =+MONTH(A18) -> 12 | C18: =+YEAR(A18) -> 2001 | D18: IV. Trim | E18: 1073.8066 | F18: =+VLOOKUP(YEAR(A18),[20]PIB!$F$1:$G$93,2,0) -> 24468.324 | G18: =+E18/F18 -> 0.043885582 | I18: 1073.8066
A19: 37591 | B19: =+MONTH(A19) -> 12 | C19: =+YEAR(A19) -> 2002 | D19: IV. Trim | E19: 1007.9872 | F19: =+VLOOKUP(YEAR(A19),[20]PIB!$F$1:$G$93,2,0) -> 28548.945 | G19: =+E19/F19 -> 0.035307336 | I19: 1007.9872
A20: 37956 | B20: =+MONTH(A20) -> 12 | C20: =+YEAR(A20) -> 2003 | D20: IV. Trim | E20: 1160.4025 | F20: =+VLOOKUP(YEAR(A20),[20]PIB!$F$1:$G$93,2,0) -> 32432.858 | G20: =+E20/F20 -> 0.035778607 | I20: 1160.4025
A21: 38322 | B21: =+MONTH(A21) -> 12 | C21: =+YEAR(A21) -> 2004 | D21: IV. Trim | E21: 1437.32 | F21: =+VLOOKUP(YEAR(A21),[20]PIB!$F$1:$G$93,2,0) -> 36591.661 | G21: =+E21/F21 -> 0.039279988 | I21: 1437.32
A22: 38687 | B22: =+MONTH(A22) -> 12 | C22: =+YEAR(A22) -> 2005 | D22: IV. Trim | E22: 2146.8974 | F22: =+VLOOKUP(YEAR(A22),[20]PIB!$F$1:$G$93,2,0) -> 41507.085 | G22: =+E22/F22 -> 0.051723637 | I22: 2146.8974
A23: 39052 | B23: =+MONTH(A23) -> 12 | C23: =+YEAR(A23) -> 2006 | D23: IV. Trim | E23: 2023.34 | F23: =+VLOOKUP(YEAR(A23),[20]PIB!$F$1:$G$93,2,0) -> 46802.044 | G23: =+E23/F23 -> 0.043231873 | I23: 2023.34
A24: 39417 | B24: =+MONTH(A24) -> 12 | C24: =+YEAR(A24) -> 2007 | D24: IV. Trim | E24: 3520.84 | F24: =+VLOOKUP(YEAR(A24),[20]PIB!$F$1:$G$93,2,0) -> 51007.777 | G24: =+E24/F24 -> 0.069025553 | I24: 3520.84
A25: 39783 | B25: =+MONTH(A25) -> 12 | C25: =+YEAR(A25) -> 2008 | D25: IV. Trim | E25: 4473.069 | F25: =+VLOOKUP(YEAR(A25),[20]PIB!$F$1:$G$93,2,0) -> 61762.635 | G25: =+E25/F25 -> 0.072423546 | I25: 4473.069
A26: 40148 | B26: =+MONTH(A26) -> 12 | C26: =+YEAR(A26) -> 2009 | D26: IV. Trim | E26: 3792.0509 | F26: =+VLOOKUP(YEAR(A26),[20]PIB!$F$1:$G$93,2,0) -> 62519.686 | G26: =+E26/F26 -> 0.060653711 | I26: 3792.0509
A27: 40513 | B27: =+MONTH(A27) -> 12 | C27: =+YEAR(A27) -> 2010 | D27: IV. Trim | E27: 2622.0537 | F27: =+VLOOKUP(YEAR(A27),[20]PIB!$F$1:$G$93,2,0) -> 69555.367 | G27: =+E27/F27 -> 0.03769736 | I27: 2622.0537
A28: 40878 | B28: =+MONTH(A28) -> 12 | C28: =+YEAR(A28) -> 2011 | D28: IV. Trim | E28: 2957.6203 | F28: =+VLOOKUP(YEAR(A28),[20]PIB!$F$1:$G$93,2,0) -> 79276.664 | G28: =+E28/F28 -> 0.037307577 | I28: 2957.6203
... A30: 41609 | B30: =+MONTH(A30) -> 12 | C30: =+YEAR(A30) -> 2013 | D30: IV. Trim | E30: 4360.5217 | F30: =+VLOOKUP(YEAR(A30),[20]PIB!$F$1:$G$93,2,0) -> 95129.659 | G30: =+E30/F30 -> 0.045837667 | I30: 4360.5217
A31: 41974 | B31: =+MONTH(A31) -> 12 | C31: =+YEAR(A31) -> 2014 | D31: IV. Trim | E31: 3949.0696 | F31: =+VLOOKUP(YEAR(A31),[20]PIB!$F$1:$G$93,2,0) -> 101726.33 | G31: =+E31/F31 -> 0.038820525 | J31: 3949.0696
A32: 42339 | B32: =+MONTH(A32) -> 12 | C32: =+YEAR(A32) -> 2015 | D32: IV. Trim | E32: 2495.9566 | F32: =+VLOOKUP(YEAR(A32),[20]PIB!$F$1:$G$93,2,0) -> 99290.381 | G32: =+E32/F32 -> 0.02513795 | J32: 2495.9566
A33: 42705 | B33: =+MONTH(A33) -> 12 | C33: =+YEAR(A33) -> 2016 | D33: IV. Trim | E33: 4258.8499 | F33: =+VLOOKUP(YEAR(A33),[20]PIB!$F$1:$G$93,2,0) -> 99937.696 | G33: =+E33/F33 -> 0.04261505 | J33: 4258.8499
A34: 43070 | B34: =+MONTH(A34) -> 12 | C34: =+YEAR(A34) -> 2017 | D34: IV. Trim | E34: 2451.0658 | F34: =+VLOOKUP(YEAR(A34),[20]PIB!$F$1:$G$93,2,0) -> 104295.86 | G34: =+E34/F34 -> 0.023501084 | J34: 2451.0658
A35: 43435 | B35: =+MONTH(A35) -> 12 | C35: =+YEAR(A35) -> 2018 | D35: IV. Trim | E35: 2676.525 | F35: =+VLOOKUP(YEAR(A35),[20]PIB!$F$1:$G$93,2,0) -> 107562.01 | G35: =+E35/F35 -> 0.024883553 | J35: 2676.525
A36: 43800 | B36: =+MONTH(A36) -> 12 | C36: =+YEAR(A36) -> 2019 | D36: IV. Trim | E36: 3397.1086 | F36: =+VLOOKUP(C36,[20]PIB!$A$1:$C$22,3,0) -> 107435.66 | G36: =+E36/F36 -> 0.031619934 | J36: 3397.1086
A37: 43983 | B37: =+MONTH(A37) -> 6 | C37: 2020 | D37: II. Trim | E37: 2665.6085 | F37: =+VLOOKUP(C37,[20]PIB!$A$1:$C$22,3,0) -> 96512.458 | G37: =+E37/F37 -> 0.027619321 | J37: 2665.6085

Sheet Gráfico 2.4
A2: Relación existente entre Balanza de Pagos y Reserva Internacional
A3: Millones de USD- Porcentaje
A5: Año | B5: Resultado Global BP (eje der.) | C5: Reserva Internacional (eje izq.) | D5: PIB Nominal(Millones de USD) | E5: BOP (% del PIB) | F5: RI (% del PIB) | G5: Variación Anual de RI (eje der.) | O5: Gráfico 2.4 Evolución de las Reservas Internacionales,
A6: 2000 | B6: -5707.28 | C6: 946.98 | D6: 18318.601 | E6: =+B6/D6 -> -0.31155654 | F6: =+C6/D6 -> 0.051694996 | O6: y Resultado Global de la Balanza de Pagos
A7: 2001 | B7: -230.14035 | C7: 839.99 | D7: 24468.324 | E7: =+B7/D7 -> -0.0094056444 | F7: =+C7/D7 -> 0.034329691 | G7: =+C7-C6 -> -106.99 | O7: Millones de USD
A8: 2002 | B8: -127.47846 | C8: 1008 | D8: 28548.945 | E8: =+B8/D8 -> -0.0044652598 | F8: =+C8/D8 -> 0.035307785 | G8: =+C8-C7 -> 168.01 | M8: Periodo 2000-2019
A9: 2003 | B9: 135.74729 | C9: 1160 | D9: 32432.858 | E9: =+B9/D9 -> 0.0041854865 | F9: =+C9/D9 -> 0.035766197 | G9: =+C9-C8 -> 152
A10: 2004 | B10: 281.03052 | C10: 1437 | D10: 36591.661 | E10: =+B10/D10 -> 0.0076801794 | F10: =+C10/D10 -> 0.039271243 | G10: =+C10-C9 -> 277
A11: 2005 | B11: 666.12738 | C11: 2147 | D11: 41507.085 | E11: =+B11/D11 -> 0.016048522 | F11: =+C11/D11 -> 0.051726109 | G11: =+C11-C10 -> 710
A12: 2006 | B12: -130.61336 | C12: 2023 | D12: 46802.044 | E12: =+B12/D12 -> -0.0027907618 | F12: =+C12/D12 -> 0.043224608 | G12: =+C12-C11 -> -124
A13: 2007 | B13: 1386.6078 | C13: 3520.8 | D13: 51007.777 | E13: =+B13/D13 -> 0.027184243 | F13: =+C13/D13 -> 0.069024769 | G13: =+C13-C12 -> 1497.8
A14: 2008 | B14: 933.94821 | C14: 4473.1 | D14: 61762.635 | E14: =+B14/D14 -> 0.015121573 | F14: =+C14/D14 -> 0.072424047 | G14: =+C14-C13 -> 952.3
A15: 2009 | B15: -2647.1711 | C15: 3792.1 | D15: 62519.686 | E15: =+B15/D15 -> -0.042341401 | F15: =+C15/D15 -> 0.060654495 | G15: =+C15-C14 -> -681
A16: 2010 | B16: -1212.2622 | C16: 2619.8 | D16: 69555.367 | E16: =+B16/D16 -> -0.017428738 | F16: =+C16/D16 -> 0.037664958 | G16: =+C16-C15 -> -1172.3
A17: 2011 | B17: 271.99558 | C17: 3113.8 | D17: 79276.664 | E17: =+B17/D17 -> 0.0034309665 | F17: =+C17/D17 -> 0.039277637 | G17: =+C17-C16 -> 494
A18: 2012 | B18: -581.92821 | C18: 2482.5 | D18: 87924.544 | E18: =+B18/D18 -> -0.0066184957 | F18: =+C18/D18 -> 0.028234437 | G18: =+C18-C17 -> -631.3
A19: 2013 | B19: 1845.9416 | C19: 4360.5 | D19: 95129.659 | E19: =+B19/D19 -> 0.01940448 | F19: =+C19/D19 -> 0.04583744 | G19: =+C19-C18 -> 1878
A20: 2014 | B20: -424.46908 | C20: 3949.1 | D20: 101726.33 | E20: =+B20/D20 -> -0.0041726569 | F20: =+C20/D20 -> 0.038820824 | G20: =+C20-C19 -> -411.4
... A25: 2019 | B25: 1529.5565 | C25: 3397.1086 | D25: 107435.66 | E25: =+B25/D25 -> 0.014236952 | F25: =+C25/D25 -> 0.031619934 | G25: =+C25-C24 -> 720.58363
A27: Nota (*): Los datos de Balanza de Pagos en 2019 corresponden a los valores al tercer trimestre de 2019. Versión 5 del Manual de Balanza de Pagos

Sheet Gráfico 2.5 
A2: Relación existente entre Balanza de Pagos y Reserva Internacional
A3: Millones de USD- Porcentaje
A5: Año | B5: Resultado Global BP (eje der.) | C5: Reserva Internacional (eje izq.) | D5: PIB (Millones de USD) | E5: BOP (% del PIB) | F5: RI (% del PIB) | G5: Variación Anual de RI (eje der.)
A6: 2000 | B6: -5707.28 | C6: 946.98 | D6: =+VLOOKUP(A6,PIB!A1:C212,3,0) -> 18318.601 | E6: =+B6/D6 -> -0.31155654 | F6: =+C6/D6 -> 0.051694996
A7: 2001 | B7: -230.14035 | C7: 839.99 | D7: =+VLOOKUP(A7,PIB!A2:C213,3,0) -> 24468.324 | E7: =+B7/D7 -> -0.0094056444 | F7: =+C7/D7 -> 0.034329691 | G7: =+C7-C6 -> -106.99
A8: 2002 | B8: -127.47846 | C8: 1008 | D8: =+VLOOKUP(A8,PIB!A3:C214,3,0) -> 28548.945 | E8: =+B8/D8 -> -0.0044652598 | F8: =+C8/D8 -> 0.035307785 | G8: =+C8-C7 -> 168.01
A9: 2003 | B9: 135.74729 | C9: 1160 | D9: =+VLOOKUP(A9,PIB!A4:C215,3,0) -> 32432.858 | E9: =+B9/D9 -> 0.0041854865 | F9: =+C9/D9 -> 0.035766197 | G9: =+C9-C8 -> 152
A10: 2004 | B10: 281.03052 | C10: 1437 | D10: =+VLOOKUP(A10,PIB!A5:C216,3,0) -> 36591.661 | E10: =+B10/D10 -> 0.0076801794 | F10: =+C10/D10 -> 0.039271243 | G10: =+C10-C9 -> 277
A11: 2005 | B11: 666.12738 | C11: 2147 | D11: =+VLOOKUP(A11,PIB!A6:C217,3,0) -> 41507.085 | E11: =+B11/D11 -> 0.016048522 | F11: =+C11/D11 -> 0.051726109 | G11: =+C11-C10 -> 710
A12: 2006 | B12: -130.61336 | C12: 2023 | D12: =+VLOOKUP(A12,PIB!A7:C218,3,0) -> 46802.044 | E12: =+B12/D12 -> -0.0027907618 | F12: =+C12/D12 -> 0.043224608 | G12: =+C12-C11 -> -124
A13: 2007 | B13: 1386.6078 | C13: 3520.8 | D13: =+VLOOKUP(A13,PIB!A8:C219,3,0) -> 51007.777 | E13: =+B13/D13 -> 0.027184243 | F13: =+C13/D13 -> 0.069024769 | G13: =+C13-C12 -> 1497.8
A14: 2008 | B14: 933.94821 | C14: 4473.1 | D14: =+VLOOKUP(A14,PIB!A9:C220,3,0) -> 61762.635 | E14: =+B14/D14 -> 0.015121573 | F14: =+C14/D14 -> 0.072424047 | G14: =+C14-C13 -> 952.3
A15: 2009 | B15: -2647.1711 | C15: 3792.1 | D15: =+VLOOKUP(A15,PIB!A10:C221,3,0) -> 62519.686 | E15: =+B15/D15 -> -0.042341401 | F15: =+C15/D15 -> 0.060654495 | G15: =+C15-C14 -> -681
A16: 2010 | B16: -1212.2622 | C16: 2619.8 | D16: =+VLOOKUP(A16,PIB!A11:C222,3,0) -> 69555.367 | E16: =+B16/D16 -> -0.017428738 | F16: =+C16/D16 -> 0.037664958 | G16: =+C16-C15 -> -1172.3
A17: 2011 | B17: 271.99558 | C17: 3113.8 | D17: =+VLOOKUP(A17,PIB!A12:C223,3,0) -> 79276.664 | E17: =+B17/D17 -> 0.0034309665 | F17: =+C17/D17 -> 0.039277637 | G17: =+C17-C16 -> 494
A18: 2012 | B18: -581.92821 | C18: 2482.5 | D18: =+VLOOKUP(A18,PIB!A13:C224,3,0) -> 87924.544 | E18: =+B18/D18 -> -0.0066184957 | F18: =+C18/D18 -> 0.028234437 | G18: =+C18-C17 -> -631.3
... A25: 2019 | B25: 1529.5565 | C25: 3397.1086 | D25: =+VLOOKUP(A25,PIB!A20:C231,3,0) -> 107435.66 | E25: =+B25/D25 -> 0.014236952 | F25: =+C25/D25 -> 0.031619934 | G25: =+C25-C24 -> 720.58363
A27: Nota (*): Los datos de Balanza de Pagos en 2019 corresponden a los valores al tercer trimestre de 2019. Versión 5 del Manual de Balanza de Pagos
O28: Evolución de las Reservas Internacionales,
O29: y Resultado Global de la Balanza de Pagos
O30: % del PIB
O31: Periodo 2001-2019

Sheet Gráfico 2.6 
A1: Profundización financiera | D1: Volver al Índice | E1: Volver al Índice
A2: En Porcentaje del PIB
A3: Año | B3: Captaciones Totales OSD | C3: Cartera Total OSD
A4: =+'Gráfico 2.8'!$A$5 -> 1990 | B4: 0.088604837 | C4: 0.056962731
A5: 1991 | B5: 0.08912354 | C5: 0.059372691
A6: 1992 | B6: 0.09256096 | C6: 0.06213749
A7: 1993 | B7: 0.12421601 | C7: 0.099745865
A8: =+A7+1 -> 1994 | B8: 0.14703159 | C8: 0.14118375
A9: =+A8+1 -> 1995 | B9: 0.15048384 | C9: 0.16294643 | I9: Gráfico 2.6 Profundización financiera
A10: =+A9+1 -> 1996 | B10: 0.1722865 | C10: 0.16376276 | I10: Porcentaje del PIB, Periodo 2000-2019
A11: =+A10+1 -> 1997 | B11: 0.17207119 | C11: 0.17925263
A12: =+A11+1 -> 1998 | B12: 0.15757569 | C12: 0.1713062
A13: =+A12+1 -> 1999 | B13: 0.14473822 | C13: 0.18279897
A14: =+A13+1 -> 2000 | B14: 0.19143001 | C14: 0.19565905
A15: =+A14+1 -> 2001 | B15: 0.18875261 | C15: 0.19489238
A16: =+A15+1 -> 2002 | B16: 0.19521702 | C16: 0.16095971
A17: =+A16+1 -> 2003 | B17: 0.15433731 | C17: 0.13322045
A18: =+A17+1 -> 2004 | B18: 0.17395111 | C18: 0.15391212
A19: =+A18+1 -> 2005 | B19: 0.18550785 | C19: 0.17129991
A20: =+A19+1 -> 2006 | B20: 0.19203285 | C20: 0.18713926
A21: =+A20+1 -> 2007 | B21: 0.20903773 | C21: 0.19739931
A22: =+A21+1 -> 2008 | B22: 0.21051045 | C22: 0.20610099
... A29: =+A28+1 -> 2015 | B29: 0.28008655 | C29: 0.25876565
A30: =+A29+1 -> 2016 | B30: 0.328553 | C30: 0.27103477 | G30: Nota : Para 2020 se considera la previsión del PIB publicada en Junio 2020.
A31: =+A30+1 -> 2017 | B31: 0.34361776 | C31: 0.30768507
A32: =+A31+1 -> 2018 | B32: 0.35017308 | C32: 0.34617976
A33: =+A32+1 -> 2019 | B33: 0.38088823 | C33: 0.38675211
A34: 2020 (jun) | B34: 0.42589341 | C34: 0.42674677
A37: Nota: Hasta febrero 2017 las OSD comprendían: bancos privados, sociedades financieras, mutualistas, cooperativas, tarjetas de crédito, BNF (hasta el 06 de mayo de 2016), y BanEcuador (a partir del 13 de mayo de 2016). A partir de marzo 2017, en cumplimiento a lo dispuesto en el Código Orgánico Monetario y Financiero (Registro Oficial 332 de 12 de septiembre de 2014), las OSD comprenden bancos privados, sociedades financieras, mutualistas, cooperativas, BanEcuador. Se excluye la información de la Banca Cerrada

Sheet Gráfico 2.7 
A1: Índice
A2: Captaciones de las Otras Sociedades de Depósito,
A3: Millones de USD y porcentaje
A4: Año | C4: Captaciones Totales OSD | D4: Tasa de variación anual | E4: PIB | F4: Captaciones Totales % PIB (der)
A5: 1990 | C5: 1349.6265 | E5: 15231.973 | F5: =(C5/E5)*100 -> 8.8604837
A6: 1991 | C6: 1513.3214 | D6: =+C6/C5-1 -> 0.12128902 | E6: 16980.041 | F6: =(C6/E6)*100 -> 8.912354 | L6: Gráfico 2.7 Captaciones de las Otras Sociedades de Depósito,
A7: 1992 | C7: 1673.9826 | D7: =+C7/C6-1 -> 0.10616468 | E7: 18085.191 | F7: =(C7/E7)*100 -> 9.256096 | L7: Millones de USD y Porcentaje
A8: 1993 | C8: 2351.3156 | D8: =+C8/C7-1 -> 0.40462367 | E8: 18929.248 | F8: =(C8/E8)*100 -> 12.421601 | L8: Periodo 2000-2019
A9: 1994 | C9: 3337.223 | D9: =+C9/C8-1 -> 0.4193003 | E9: 22697.319 | F9: =(C9/E9)*100 -> 14.703159
A10: 1995 | C10: 3674.9159 | D10: =+C10/C9-1 -> 0.10118979 | E10: 24420.668 | F10: =(C10/E10)*100 -> 15.048384
A11: 1996 | C11: 4343.9939 | D11: =+C11/C10-1 -> 0.18206623 | E11: 25213.78 | F11: =(C11/E11)*100 -> 17.22865
A12: 1997 | C12: 4843.4551 | D12: =+C12/C11-1 -> 0.11497742 | E12: 28147.972 | F12: =(C12/E12)*100 -> 17.207119
A13: 1998 | C13: 4407.062 | D13: =+C13/C12-1 -> -0.090099557 | E13: 27967.906 | F13: =(C13/E13)*100 -> 15.757569
